BEGIN:VCALENDAR
VERSION:2.0
PRODID:-//Festival Robert Capa estuvo aquí - ECPv6.15.18//NONSGML v1.0//EN
CALSCALE:GREGORIAN
METHOD:PUBLISH
X-WR-CALNAME:Festival Robert Capa estuvo aquí
X-ORIGINAL-URL:https://festivalrobertcapaestuvoaqui.es
X-WR-CALDESC:Eventos para Festival Robert Capa estuvo aquí
REFRESH-INTERVAL;VALUE=DURATION:PT1H
X-Robots-Tag:noindex
X-PUBLISHED-TTL:PT1H
BEGIN:VTIMEZONE
TZID:Europe/Helsinki
BEGIN:DAYLIGHT
TZOFFSETFROM:+0200
TZOFFSETTO:+0300
TZNAME:EEST
DTSTART:20180325T010000
END:DAYLIGHT
BEGIN:STANDARD
TZOFFSETFROM:+0300
TZOFFSETTO:+0200
TZNAME:EET
DTSTART:20181028T010000
END:STANDARD
BEGIN:DAYLIGHT
TZOFFSETFROM:+0200
TZOFFSETTO:+0300
TZNAME:EEST
DTSTART:20190331T010000
END:DAYLIGHT
BEGIN:STANDARD
TZOFFSETFROM:+0300
TZOFFSETTO:+0200
TZNAME:EET
DTSTART:20191027T010000
END:STANDARD
BEGIN:DAYLIGHT
TZOFFSETFROM:+0200
TZOFFSETTO:+0300
TZNAME:EEST
DTSTART:20200329T010000
END:DAYLIGHT
BEGIN:STANDARD
TZOFFSETFROM:+0300
TZOFFSETTO:+0200
TZNAME:EET
DTSTART:20201025T010000
END:STANDARD
END:VTIMEZONE
BEGIN:VEVENT
DTSTART;TZID=Europe/Helsinki:20191212T200000
DTEND;TZID=Europe/Helsinki:20191212T220000
DTSTAMP:20260421T062736
CREATED:20191016T213443Z
LAST-MODIFIED:20231102T155642Z
UID:640-1576180800-1576188000@festivalrobertcapaestuvoaqui.es
SUMMARY:Gala de los Premios Internacionales Peironcely 10
DESCRIPTION:PREMIOS P10\nLos Premios Internacionales Perioncely 10 llevan el nombre del lugar en el que tres niños anónimos\, víctimas de la barbarie de la guerra\, fueron inmortalizados por Robert Capa\, en noviembre de 1936\, tras los bombardeos aéreos de la aviación alemana e italiana. \nAquella imagen\, transformada en estatuilla por las habilidosas y sensibles manos de las escultora Emma García-Castellano\, simboliza hoy los valores que impulsaron\, en 2017\, a las veinte entidades de Estados Unidos\, Francia\, Alemania\, Portugal y España para defender aquel rincón olvidado de memoria de Europa\, situado en el madrileño barrio de Entrevías. \nDos niñas y un niño\, sentados sobre el bordillo de una acera\, rodeados de escombros y metralla\, que parecen sonreír ajenos a la barbarie que les rodea. Una trinidad que ha recuperado su corporeidad gracias al arte escultórico para encarnar los valores de la defensa de la Igualdad Social\, la Paz y la Memoria y la conservación del Patrimonio obrero. \nEl acto de entrega de los Premios Internacionales Peironcely 10 tendrá lugar en la sede de la Fundación de los Ferrocarriles Españoles. Quizá no haya lugar más idóneo para ello\, pues la calle Peironcely lleva el nombre de quien fuera un destacado ingeniero de trenes de la histórica compañía ferroviaria Madrid\, Zaragoza Alicante —más conocida como MZA—; y el edificio del número 10 ha sido el hogar de muchos trabajadores del ferrocarril\, a lo largo de sus más de noventa años de vida. \nPresentación: \nFrancisco Polo\, director del Museo del Ferrocarril. \n﻿ \nPedro L. Hojas Cancho\, presidente de la Fundación Anastasio de Gracia. \n \nCristina Uquillas\, portavoz de los vecinos de Peironcely 10 \n﻿
URL:https://festivalrobertcapaestuvoaqui.es/evento/gala-de-los-premios-internacionales-peironcely-10-2/
LOCATION:Fundación de los Ferrocarriles Españoles. Salón de baile.\, Santa Isable\, 44\, Madrid\, España
CATEGORIES:Fundación de los Ferrocarriles Españoles
ATTACH;FMTTYPE=image/jpeg:https://festivalrobertcapaestuvoaqui.es/wp-content/uploads/2019/10/Premios_p10_3.jpg
ORGANIZER;CN="Fundaci%C3%B3n Anastasio de Gracia-FITEL":MAILTO:fanastasiodegracia@fanastasiodegracia.es
END:VEVENT
END:VCALENDAR