BEGIN:VCALENDAR
VERSION:2.0
PRODID:-//Festival Robert Capa estuvo aquí - ECPv6.15.18//NONSGML v1.0//EN
CALSCALE:GREGORIAN
METHOD:PUBLISH
X-WR-CALNAME:Festival Robert Capa estuvo aquí
X-ORIGINAL-URL:https://festivalrobertcapaestuvoaqui.es
X-WR-CALDESC:Eventos para Festival Robert Capa estuvo aquí
REFRESH-INTERVAL;VALUE=DURATION:PT1H
X-Robots-Tag:noindex
X-PUBLISHED-TTL:PT1H
BEGIN:VTIMEZONE
TZID:Europe/Helsinki
BEGIN:DAYLIGHT
TZOFFSETFROM:+0200
TZOFFSETTO:+0300
TZNAME:EEST
DTSTART:20230326T010000
END:DAYLIGHT
BEGIN:STANDARD
TZOFFSETFROM:+0300
TZOFFSETTO:+0200
TZNAME:EET
DTSTART:20231029T010000
END:STANDARD
BEGIN:DAYLIGHT
TZOFFSETFROM:+0200
TZOFFSETTO:+0300
TZNAME:EEST
DTSTART:20240331T010000
END:DAYLIGHT
BEGIN:STANDARD
TZOFFSETFROM:+0300
TZOFFSETTO:+0200
TZNAME:EET
DTSTART:20241027T010000
END:STANDARD
BEGIN:DAYLIGHT
TZOFFSETFROM:+0200
TZOFFSETTO:+0300
TZNAME:EEST
DTSTART:20250330T010000
END:DAYLIGHT
BEGIN:STANDARD
TZOFFSETFROM:+0300
TZOFFSETTO:+0200
TZNAME:EET
DTSTART:20251026T010000
END:STANDARD
END:VTIMEZONE
BEGIN:VEVENT
DTSTART;TZID=Europe/Helsinki:20241126T120000
DTEND;TZID=Europe/Helsinki:20241126T130000
DTSTAMP:20260423T201134
CREATED:20241023T101402Z
LAST-MODIFIED:20250108T112138Z
UID:4887-1732622400-1732626000@festivalrobertcapaestuvoaqui.es
SUMMARY:De puertas afuera II
DESCRIPTION:Las puertas tapiadas de Peironcely 10 cobrarán vida de nuevo gracias a la magia del arte\nARTE EN LA CALLE\nInspirados en el lema del Festival de este año\, Identidades\, la propuesta artística pretende realizar una acción que conecte a los vecinos de Entrevías con su historia y dignifique su sentido de pertenencia. La humilde vivienda de la calle Peironcely 10 se ha convertido en un icono de la memoria del barrio y se ha transformado en un punto de interés para la ciudadanía de Madrid. \nLas puertas de la casa del número 10\, que han sido tapiadas\, servirán como lienzo para obras de la artista y muralista\, Raquel de la Coba\, que reflexionará sobre los legados que el pasado nos deja. La creadora realizará tres piezas que ponen en valor la memoria de los habitantes de la casa a lo largo de los últimos 100 años. Estas piezas son una continuación de la obra realizada en el año 2021. \n  \n 
URL:https://festivalrobertcapaestuvoaqui.es/evento/de-puertas-afuera-ii/
LOCATION:Peironcely\, 10\, Peironcely\, 10\, Madrid\, Madrid\, España
CATEGORIES:Arte en la calle,Peironcely 10,Sedes
ATTACH;FMTTYPE=image/jpeg:https://festivalrobertcapaestuvoaqui.es/wp-content/uploads/2024/10/MG_0039.jpg
ORGANIZER;CN="Fundaci%C3%B3n Anastasio de Gracia-FITEL":MAILTO:fanastasiodegracia@fanastasiodegracia.es
END:VEVENT
END:VCALENDAR